BEGIN:VCALENDAR
VERSION:2.0
PRODID:-//World Blind Golf - ECPv6.11.2.1//NONSGML v1.0//EN
CALSCALE:GREGORIAN
METHOD:PUBLISH
X-ORIGINAL-URL:https://blind.golf
X-WR-CALDESC:Events for World Blind Golf
REFRESH-INTERVAL;VALUE=DURATION:PT1H
X-Robots-Tag:noindex
X-PUBLISHED-TTL:PT1H
BEGIN:VTIMEZONE
TZID:Australia/Darwin
BEGIN:STANDARD
TZOFFSETFROM:+0930
TZOFFSETTO:+0930
TZNAME:ACST
DTSTART:20220101T000000
END:STANDARD
END:VTIMEZONE
BEGIN:VEVENT
DTSTART;TZID=Australia/Darwin:20221019T140000
DTEND;TZID=Australia/Darwin:20221019T150000
DTSTAMP:20260422T190337
CREATED:20221001T105011Z
LAST-MODIFIED:20221002T120856Z
UID:10000003-1666188000-1666191600@blind.golf
SUMMARY:Darwin Come and Try Day 19 October
DESCRIPTION:Inviting all blind and low vision thrill-seekers of the Northern Territory to Darwin’s first ever blind golf come and try event at Darwin Golf Club on Wednesday October 19 at 2PM.\nExperience the thrill of playing golf and enjoy the benefits of a healthy golfing lifestyle\, regardless of your level of vision or eyesight condition.\nRegistration is completely free\, all equipment is provided and bookings can be made by phoning the Darwin Golf Club on (08) 8927 1322. \n  \n \n  \n| Poster | Media Release |\n  \n  \nDarwin blind and low vision thrill-seekers ready to play golf \nDarwin residents who are blind or have limited sight will soon have an opportunity to experience the fun and excitement of golf thanks to the Come and Try Blind Golf day to be held at Darwin Golf Club on October 19. \nWorld Blind Golf\, a new Australian-based charity\, in conjunction with Darwin Golf Club will welcome everyone who has any issues with their vision to attend a free session with the club pro Rob Dehne PGA on the practice green starting at 2pm on Wednesday October 19. \nAccording to World Blind Golf CEO\, Mr Neil Herdegen\, golf is an ideal sport for people with vision issues as golf has many elements which make it ideally suitable for people with any type of disability\, especially those who are blind or have limited eyesight. \n“Golf is one of the very few sports which uses a stationary ball – the ball just gets in the way of the club when you take a swing\, and there you go!” he said. \nAccording to Mr Herdegen\, who is also a golfer with limited vision and a Golf Australia Community Golf Coach\, inclusive blind golf provides a great way to meet new friends and be part of a growing\, vibrant and well-supported World Blind Golf community that now spans the globe. \n“Players now have a regular opportunity to connect with fellow blind golfers\, their caddies and be part of their local golf club.” \n“The social and community participation opportunities provided by blind golf cannot be under estimated – inclusive golf is changing lives for the better around the world” he said. \nBlind Golf players are assisted on the course according to their needs. Blind Golfers play with a volunteer caddy who is tasked with aligning the head of their golf club to the golf ball and helping the player navigate the course. \n“If you are blind or have less than great sight\, it’s a perfect time to take up the support – we now have the support of many golf clubs and golf organisations\, there’s a huge awareness of the needs of blind golfers within our affiliated golf clubs and we’re also now the beneficiaries of amazing technology which provides our golfers with a lot of independence while playing golf” said Mr Herdegen. \n“We use many types of golf gadgets including small talking GPS units which speak the distance to the flag on each hole – it can really help some golfers\, it’s now possible to know where you are at all times when you’re playing golf” \nBookings for the free come and try golf day can be made by phoning the Darwin Golf Club Pro Shop on (08) 8927 1322. All golf equipment will be supplied. \n  \n 
URL:https://blind.golf/event/darwin-come-and-try-day/
LOCATION:Darwin Golf Club\, 5 Links Rd\, Darwin\, NT\, 0812\, Australia
CATEGORIES:Come and Try,Northern Territory
ATTACH;FMTTYPE=image/jpeg:https://blind.golf/wp-content/uploads/2022/10/World-Blind-Golf-Darwin-come-and-try-October-19.jpg
ORGANIZER;CN="World Blind Golf":MAILTO:info@worldblindgolf.org
GEO:-12.398575;130.896645
X-APPLE-STRUCTURED-LOCATION;VALUE=URI;X-ADDRESS=Darwin Golf Club 5 Links Rd Darwin NT 0812 Australia;X-APPLE-RADIUS=500;X-TITLE=5 Links Rd:geo:130.896645,-12.398575
END:VEVENT
END:VCALENDAR